BEGIN:VCALENDAR
VERSION:2.0
PRODID:spatie/icalendar-generator
DESCRIPTION:Events from ICTrust
X-WR-CALDESC:Events from ICTrust
REFRESH-INTERVAL;VALUE=DURATION:PT1440M
X-PUBLISHED-TTL:PT1440M
BEGIN:VTIMEZONE
TZID:Europe/Copenhagen
BEGIN:STANDARD
DTSTART:20241027T030000Z
TZOFFSETFROM:+0200
TZOFFSETTO:+0100
END:STANDARD
BEGIN:DAYLIGHT
DTSTART:20250330T020000Z
TZOFFSETFROM:+0100
TZOFFSETTO:+0200
END:DAYLIGHT
END:VTIMEZONE
BEGIN:VTIMEZONE
TZID:UTC
BEGIN:STANDARD
DTSTART:20250727T183312Z
TZOFFSETFROM:+0000
TZOFFSETTO:+0000
END:STANDARD
END:VTIMEZONE
BEGIN:VEVENT
UID:12-10
DTSTAMP:20260423T183312Z
SUMMARY:Oslo -Tregrening Kan Virkeliggjøres i Nåtiden!
LOCATION:
ORGANIZER;CN=Diane Drake Vincentz:MAILTO:diane@reclaimed-society.org
DTSTART;TZID=Europe/Copenhagen:20250221T180000
DTEND;TZID=Europe/Copenhagen:20250222T180000
X-ALT-DESC;FMTTYPE=TEXT/HTML:TREGRENING KAN VIRKELIGGJØRES I NÅTIDEN! SEM
 INAR i Josefinegate\, Oslo 12 21-22/2 med Diane Vincentz fra Danmark Progr
 am: Fredag 21/2 18.00                Ord til velkomst 18.10-
 20.30    Diane Vincentz: Bakgrunnen for tregreningstanken og behovet fo
 r den i vår tid. Med tid for samtale. 20.30                
  Kunstnerisk avslutning med felles eurytmi Lørdag 22/2 10.00-10.20   
  Felles eurytmi 10.20-12.00    Videreføring&amp;hellip\;
CATEGORIES:General
URL;VALUE=URI:https://ictrust.org/mc-events/oslo-tregrening-kan-virkeliggjo
 res-i-natiden-2/
METHOD:PUBLISH
END:VEVENT
END:VCALENDAR