BEGIN:VCALENDAR
VERSION:2.0
PRODID:spatie/icalendar-generator
DESCRIPTION:Events from ICTrust
X-WR-CALDESC:Events from ICTrust
REFRESH-INTERVAL;VALUE=DURATION:PT1440M
X-PUBLISHED-TTL:PT1440M
BEGIN:VTIMEZONE
TZID:Europe/Copenhagen
BEGIN:STANDARD
DTSTART:20231029T030000Z
TZOFFSETFROM:+0200
TZOFFSETTO:+0100
END:STANDARD
BEGIN:DAYLIGHT
DTSTART:20240331T020000Z
TZOFFSETFROM:+0100
TZOFFSETTO:+0200
END:DAYLIGHT
BEGIN:STANDARD
DTSTART:20241027T030000Z
TZOFFSETFROM:+0200
TZOFFSETTO:+0100
END:STANDARD
END:VTIMEZONE
BEGIN:VTIMEZONE
TZID:UTC
BEGIN:STANDARD
DTSTART:20250727T232751Z
TZOFFSETFROM:+0000
TZOFFSETTO:+0000
END:STANDARD
END:VTIMEZONE
BEGIN:VEVENT
UID:2-2
DTSTAMP:20260423T232751Z
SUMMARY:Jeg`ets spirituelle udfoldelse
LOCATION:Foreningen DOF Vendepunkt c/o Antroposofisk Kulturhus Rosenvangs a
 llé 251A  8270 Højbjerg (Aarhus)  8270
ORGANIZER;CN=admin:MAILTO:suzanneprep@yahoo.com
DTSTART;TZID=Europe/Copenhagen:20240531T163000
DTEND;TZID=Europe/Copenhagen:20240602T130000
X-ALT-DESC;FMTTYPE=TEXT/HTML:Jeg`ets spirituelle udfoldelse forudsætter en
  erkendelse af dets iboende opgaver for at frembringer tre-greningens soci
 ale fornyelse Fredag d. 31.05. kl. 16.30 – søndag d. 02.06. kl. 13.00 D
 iane Vincentz   Forvandlingen af det sociale liv er overladt til menneske
 heden selv og afventer menneskers egen frie vilje og initiativ.  Forvandl
 ingen kan kun skabes af en på&amp;hellip\;
CATEGORIES:General
URL;VALUE=URI:https://ictrust.org/mc-events/jegets-spirituelle-udfoldelse/
METHOD:PUBLISH
END:VEVENT
END:VCALENDAR