BEGIN:VCALENDAR
VERSION:2.0
PRODID:spatie/icalendar-generator
DESCRIPTION:Events from ICTrust
X-WR-CALDESC:Events from ICTrust
REFRESH-INTERVAL;VALUE=DURATION:PT1440M
X-PUBLISHED-TTL:PT1440M
BEGIN:VTIMEZONE
TZID:Europe/Copenhagen
BEGIN:STANDARD
DTSTART:20241027T030000Z
TZOFFSETFROM:+0200
TZOFFSETTO:+0100
END:STANDARD
BEGIN:DAYLIGHT
DTSTART:20250330T020000Z
TZOFFSETFROM:+0100
TZOFFSETTO:+0200
END:DAYLIGHT
BEGIN:STANDARD
DTSTART:20251026T030000Z
TZOFFSETFROM:+0200
TZOFFSETTO:+0100
END:STANDARD
END:VTIMEZONE
BEGIN:VTIMEZONE
TZID:UTC
BEGIN:STANDARD
DTSTART:20250727T160629Z
TZOFFSETFROM:+0000
TZOFFSETTO:+0000
END:STANDARD
END:VTIMEZONE
BEGIN:VEVENT
UID:22-14
DTSTAMP:20260423T160629Z
SUMMARY:Hvilke konstruktive samt destruktive magter og åndsstrømninger vi
 rker ind i samtidens sociale liv?
LOCATION:Foreningen DOF Vendepunkt c/o Antroposofisk Kulturhus Rosenvangs a
 llé 251A  8270 Højbjerg (Aarhus)  8270
ORGANIZER;CN=admin:MAILTO:suzanneprep@yahoo.com
DTSTART;TZID=Europe/Copenhagen:20250516T163000
DTEND;TZID=Europe/Copenhagen:20250518T130000
X-ALT-DESC;FMTTYPE=TEXT/HTML:Hvilke konstruktive samt destruktive magter og
  åndsstrømninger virker ind i samtidens sociale liv? &amp;nbsp\; [caption id
 =\"attachment_27484\" align=\"alignnone\" width=\"491\"] by Annael (Anelia
  Pavlova)[/caption]   Esoteriske kristne fællesskaber og deres bestræbe
 lser på at bevirke fornyelsesprocesser på det sociale område. &amp;nbsp\; M
 anikæernes og rosenkreuzernes impulser til udformningen af samfundet og m
 odsatrettede intentioner i vor tids politiske tendenser. Til&amp;hellip\;
CATEGORIES:General
URL;VALUE=URI:https://ictrust.org/mc-events/hvilke-konstruktive-samt-destru
 ktive-magter-og-andsstromninger-virker-ind-i-samtidens-sociale-liv/
METHOD:PUBLISH
END:VEVENT
END:VCALENDAR