BEGIN:VCALENDAR
VERSION:2.0
PRODID:spatie/icalendar-generator
DESCRIPTION:Events from ICTrust
X-WR-CALDESC:Events from ICTrust
REFRESH-INTERVAL;VALUE=DURATION:PT1440M
X-PUBLISHED-TTL:PT1440M
BEGIN:VTIMEZONE
TZID:Europe/Copenhagen
BEGIN:DAYLIGHT
DTSTART:20250330T020000Z
TZOFFSETFROM:+0100
TZOFFSETTO:+0200
END:DAYLIGHT
BEGIN:STANDARD
DTSTART:20251026T030000Z
TZOFFSETFROM:+0200
TZOFFSETTO:+0100
END:STANDARD
END:VTIMEZONE
BEGIN:VTIMEZONE
TZID:UTC
BEGIN:STANDARD
DTSTART:20250727T123043Z
TZOFFSETFROM:+0000
TZOFFSETTO:+0000
END:STANDARD
END:VTIMEZONE
BEGIN:VEVENT
UID:28-22
DTSTAMP:20260423T123043Z
SUMMARY:Årsmøde i ICT Danmark - 24.09.2025   -  kl. 19 - 21.30
LOCATION:Vrads Forsamlingshus St. Bredlundvej 3\, Vrads\, 8654 Bryrup St. B
 redlundvej 3  Vradsm Bryup  8654
ORGANIZER;CN=admin:MAILTO:suzanneprep@yahoo.com
DTSTART;TZID=Europe/Copenhagen:20250924T190000
DTEND;TZID=Europe/Copenhagen:20250924T200000
X-ALT-DESC;FMTTYPE=TEXT/HTML:Indbydelse til årsmøde i ICT Danmark 24.09.2
 025   -  kl. 19 - 21.30 (Paraply-organisation for bl.a. Frejas Fællesba
 geri\, Blakgården og LH-Masseovne) onsdag d.24.09.2025   -  kl. 19 - 21
 .30 Vrads Forsamlingshus St. Bredlundvej 3\, Vrads\, 8654 Bryrup Kære med
 lemmer og interesserede I inviteres hermed til årsmøde 2025 i ICT Danmar
 k. Formålet med denne aften er&amp;hellip\;
CATEGORIES:General
URL;VALUE=URI:https://ictrust.org/mc-events/arsmode-i-ict-danmark-24-09-202
 5-kl-19-21-30/
METHOD:PUBLISH
END:VEVENT
END:VCALENDAR