BEGIN:VCALENDAR
VERSION:2.0
PRODID:spatie/icalendar-generator
DESCRIPTION:Events from ICTrust
X-WR-CALDESC:Events from ICTrust
REFRESH-INTERVAL;VALUE=DURATION:PT1440M
X-PUBLISHED-TTL:PT1440M
BEGIN:VTIMEZONE
TZID:Europe/Copenhagen
BEGIN:STANDARD
DTSTART:20251026T030000Z
TZOFFSETFROM:+0200
TZOFFSETTO:+0100
END:STANDARD
BEGIN:DAYLIGHT
DTSTART:20260329T020000Z
TZOFFSETFROM:+0100
TZOFFSETTO:+0200
END:DAYLIGHT
END:VTIMEZONE
BEGIN:VTIMEZONE
TZID:UTC
BEGIN:STANDARD
DTSTART:20250727T122904Z
TZOFFSETFROM:+0000
TZOFFSETTO:+0000
END:STANDARD
END:VTIMEZONE
BEGIN:VEVENT
UID:37-23
DTSTAMP:20260423T122904Z
SUMMARY:SuveRene Fødevarer starter varetur - presentation på Friland
LOCATION:
ORGANIZER;CN=admin:MAILTO:suzanneprep@yahoo.com
DTSTART;TZID=Europe/Copenhagen;VALUE=DATE:20260226
DTEND;TZID=Europe/Copenhagen;VALUE=DATE:20260227
X-ALT-DESC;FMTTYPE=TEXT/HTML:Præsentation af SuveRene Fødevarer Varetur S
 ted: Frilands fælleshus Ravnen\, Ravnen 4\, 8410 Rønde &amp;nbsp\; &amp;nbsp\; H
 vordan løser vi det basale spørgsmål om fødevareforsyning i fællesska
 b - så det varetages på bedste måde både for forbrugere og producenter
 ? En entusiastisk gruppe mennesker har en løsning. Producenter og forbrug
 ere\, er gået sammen i netværket ICT\, et foreningsbaseret&amp;hellip\;
CATEGORIES:General
URL;VALUE=URI:https://ictrust.org/mc-events/suverene-fodevarer-starter-vare
 tur-presentation-pa-friland/
METHOD:PUBLISH
END:VEVENT
END:VCALENDAR