BEGIN:VCALENDAR
VERSION:2.0
PRODID:spatie/icalendar-generator
DESCRIPTION:Events from ICTrust
X-WR-CALDESC:Events from ICTrust
REFRESH-INTERVAL;VALUE=DURATION:PT1440M
X-PUBLISHED-TTL:PT1440M
BEGIN:VTIMEZONE
TZID:Europe/Copenhagen
BEGIN:STANDARD
DTSTART:20251026T030000Z
TZOFFSETFROM:+0200
TZOFFSETTO:+0100
END:STANDARD
BEGIN:DAYLIGHT
DTSTART:20260329T020000Z
TZOFFSETFROM:+0100
TZOFFSETTO:+0200
END:DAYLIGHT
END:VTIMEZONE
BEGIN:VTIMEZONE
TZID:UTC
BEGIN:STANDARD
DTSTART:20250727T140329Z
TZOFFSETFROM:+0000
TZOFFSETTO:+0000
END:STANDARD
END:VTIMEZONE
BEGIN:VEVENT
UID:38-24
DTSTAMP:20260423T140329Z
SUMMARY:Orienteringsmøde om den Almennyttige Forening ICT Danmark
LOCATION:
ORGANIZER;CN=admin:MAILTO:suzanneprep@yahoo.com
DTSTART;TZID=Europe/Copenhagen:20260325T190000
DTEND;TZID=Europe/Copenhagen:20260325T213000
X-ALT-DESC;FMTTYPE=TEXT/HTML:Mødet finder sted i Stjerneblomsten\, Bygden 
 65\, 7100 Vejle Onsdag d\, 25. marts kl 19. Indledning V/Diane Vincentz - 
 Hvorfor er ICT dannet netop nu - Hvor langt er vi nået og hvad er visione
 rne for fremtiden. - Associativt samarbejde. Spørgsmål til forståelsen 
 af indlægget Juridiske og organisatoriske aspekter V/ Michael Vincentz- H
 vorfor er det&amp;hellip\;
CATEGORIES:General
URL;VALUE=URI:https://ictrust.org/mc-events/orienteringsmode-om-den-almenny
 ttige-forening-ict-danmark/
METHOD:PUBLISH
END:VEVENT
END:VCALENDAR