BEGIN:VCALENDAR
VERSION:2.0
PRODID:spatie/icalendar-generator
DESCRIPTION:Events from ICTrust
X-WR-CALDESC:Events from ICTrust
REFRESH-INTERVAL;VALUE=DURATION:PT1440M
X-PUBLISHED-TTL:PT1440M
BEGIN:VTIMEZONE
TZID:Europe/Copenhagen
BEGIN:DAYLIGHT
DTSTART:20240331T020000Z
TZOFFSETFROM:+0100
TZOFFSETTO:+0200
END:DAYLIGHT
BEGIN:STANDARD
DTSTART:20241027T030000Z
TZOFFSETFROM:+0200
TZOFFSETTO:+0100
END:STANDARD
END:VTIMEZONE
BEGIN:VTIMEZONE
TZID:UTC
BEGIN:STANDARD
DTSTART:20250727T222236Z
TZOFFSETFROM:+0000
TZOFFSETTO:+0000
END:STANDARD
END:VTIMEZONE
BEGIN:VEVENT
UID:4-4
DTSTAMP:20260423T222236Z
SUMMARY:Nuancer – En musikalsk rejse med J. S. Bach for inderligt at søg
 e efter en social fornyelse
LOCATION:Foreningen DOF Vendepunkt c/o Antroposofisk Kulturhus Rosenvangs a
 llé 251A  8270 Højbjerg (Aarhus)  8270
ORGANIZER;CN=Diane Drake Vincentz:MAILTO:diane@reclaimed-society.org
DTSTART;TZID=Europe/Copenhagen:20240906T163000
DTEND;TZID=Europe/Copenhagen:20240908T130000
X-ALT-DESC;FMTTYPE=TEXT/HTML:<p>Weekend koncert og tre-grening seminar<br />\nFredag d. 6.september kl. 16:30<br />\ntil<br />\nsøndag d. 8. septemb
 er<br />\nved Adolf Zinnstag Basel\, Schweiz – violinist<br />\nDiane Vi
 ncentz\, Skanderborg</p>\n
CATEGORIES:General
URL;VALUE=URI:https://ictrust.org/mc-events/nuancer-en-musikalsk-rejse-med-
 j-s-bach-for-inderligt-at-soge-efter-en-social-fornyelse/
METHOD:PUBLISH
END:VEVENT
END:VCALENDAR