BEGIN:VCALENDAR
VERSION:2.0
PRODID:spatie/icalendar-generator
DESCRIPTION:Events from ICTrust
X-WR-CALDESC:Events from ICTrust
REFRESH-INTERVAL;VALUE=DURATION:PT1440M
X-PUBLISHED-TTL:PT1440M
BEGIN:VTIMEZONE
TZID:Europe/Copenhagen
BEGIN:DAYLIGHT
DTSTART:20240331T020000Z
TZOFFSETFROM:+0100
TZOFFSETTO:+0200
END:DAYLIGHT
BEGIN:STANDARD
DTSTART:20241027T030000Z
TZOFFSETFROM:+0200
TZOFFSETTO:+0100
END:STANDARD
BEGIN:DAYLIGHT
DTSTART:20250330T020000Z
TZOFFSETFROM:+0100
TZOFFSETTO:+0200
END:DAYLIGHT
END:VTIMEZONE
BEGIN:VTIMEZONE
TZID:UTC
BEGIN:STANDARD
DTSTART:20250727T200613Z
TZOFFSETFROM:+0000
TZOFFSETTO:+0000
END:STANDARD
END:VTIMEZONE
BEGIN:VEVENT
UID:7-6
DTSTAMP:20260423T200613Z
SUMMARY:„Die Spirituelle Entfaltung des Ich und der Dreigliederungs-Weg z
 ur Sozialen Erneuerung“
LOCATION:
ORGANIZER;CN=admin:MAILTO:suzanneprep@yahoo.com
DTSTART;TZID=Europe/Copenhagen:20241115T190000
DTEND;TZID=Europe/Copenhagen:20241115T211000
X-ALT-DESC;FMTTYPE=TEXT/HTML:<p>Dieser \"dreigliedrige\" Impuls\, der seine
 n Ursprung in der geistigen Welt findet\, ist schon längst vorbereitet. E
 r schlummert in uns! </p>\n
CATEGORIES:General
URL;VALUE=URI:https://ictrust.org/mc-events/die-spirituelle-entfaltung-des-
 ich-und-der-dreigliederungs-weg-zur-sozialen-erneuerung/
METHOD:PUBLISH
END:VEVENT
END:VCALENDAR