BEGIN:VCALENDAR
VERSION:2.0
PRODID:spatie/icalendar-generator
DESCRIPTION:Events from ICTrust
X-WR-CALDESC:Events from ICTrust
REFRESH-INTERVAL;VALUE=DURATION:PT1440M
X-PUBLISHED-TTL:PT1440M
BEGIN:VTIMEZONE
TZID:Europe/Copenhagen
BEGIN:DAYLIGHT
DTSTART:20240331T020000Z
TZOFFSETFROM:+0100
TZOFFSETTO:+0200
END:DAYLIGHT
BEGIN:STANDARD
DTSTART:20241027T030000Z
TZOFFSETFROM:+0200
TZOFFSETTO:+0100
END:STANDARD
BEGIN:DAYLIGHT
DTSTART:20250330T020000Z
TZOFFSETFROM:+0100
TZOFFSETTO:+0200
END:DAYLIGHT
END:VTIMEZONE
BEGIN:VTIMEZONE
TZID:UTC
BEGIN:STANDARD
DTSTART:20250727T195048Z
TZOFFSETFROM:+0000
TZOFFSETTO:+0000
END:STANDARD
END:VTIMEZONE
BEGIN:VEVENT
UID:8-7
DTSTAMP:20260423T195048Z
SUMMARY:„Die Spirituelle Entfaltung des Ich und der Dreigliederungs-Weg z
 ur Sozialen Erneuerung“
LOCATION:
ORGANIZER;CN=admin:MAILTO:suzanneprep@yahoo.com
DTSTART;TZID=Europe/Copenhagen;VALUE=DATE:20241116
DTEND;TZID=Europe/Copenhagen;VALUE=DATE:20241118
X-ALT-DESC;FMTTYPE=TEXT/HTML:Fr. 15. Nov. 2024\, 19.00 Uhr Vortrag    u
 nd   Sa./So. 16./17. Nov. 2024 Seminar     mit Diane Vincentz (Ska
 nderborg)  Kleiner Saal der Waldorfschule Flensburg        „Selt
 sam ist nur\, dass die\, die sich nach innen so verfeinern\, nach außen s
 o oft versteinern“    Im Sinne dieses Liedtextes des unvergleichlichen
  Herman van Veen aus den 1980er&amp;hellip\;
CATEGORIES:General
URL;VALUE=URI:https://ictrust.org/mc-events/die-spirituelle-entfaltung-des-
 ich-und-der-dreigliederungs-weg-zur-sozialen-erneuerung-2/
METHOD:PUBLISH
END:VEVENT
END:VCALENDAR