BEGIN:VCALENDAR
VERSION:2.0
PRODID:spatie/icalendar-generator
DESCRIPTION:Events from ICTrust
X-WR-CALDESC:Events from ICTrust
REFRESH-INTERVAL;VALUE=DURATION:PT1440M
X-PUBLISHED-TTL:PT1440M
BEGIN:VTIMEZONE
TZID:Europe/Copenhagen
BEGIN:STANDARD
DTSTART:20241027T030000Z
TZOFFSETFROM:+0200
TZOFFSETTO:+0100
END:STANDARD
BEGIN:DAYLIGHT
DTSTART:20250330T020000Z
TZOFFSETFROM:+0100
TZOFFSETTO:+0200
END:DAYLIGHT
END:VTIMEZONE
BEGIN:VTIMEZONE
TZID:UTC
BEGIN:STANDARD
DTSTART:20250727T163507Z
TZOFFSETFROM:+0000
TZOFFSETTO:+0000
END:STANDARD
END:VTIMEZONE
BEGIN:VEVENT
UID:14-12
DTSTAMP:20260423T163507Z
SUMMARY:NOVALIS FESTIVAL … at romantisere verden. Vendepunkt
LOCATION:
ORGANIZER;CN=admin:MAILTO:suzanneprep@yahoo.com
DTSTART;TZID=Europe/Copenhagen:20250404T180000
DTEND;TZID=Europe/Copenhagen:20250406T130000
X-ALT-DESC;FMTTYPE=TEXT/HTML:NOVALIS FESTIVAL … at romantisere verden. Fr
 edag 04.04. kl. 18:00 til Søndag 06.04. kl. 13:00 Diane Vincentz\, Stephe
 n Frister og Mona Sonderborg Tompkins Foredrag\, oplæsning\, samtale\, de
 bat\, sang og musik samt andre kunstneriske indslag med udgangspunkt i Rud
 olf Steiners antroposofiske forskning vedrørende Novalis. Priser: Fredag 
 04.04. kl. 18:00-21:30 med aftensmåltid og kage m.m.: 135 kr.&amp;hellip\;
CATEGORIES:General
URL;VALUE=URI:https://ictrust.org/mc-events/novalis-festival-at-romantisere
 -verden-vendepunkt/
METHOD:PUBLISH
END:VEVENT
END:VCALENDAR