BEGIN:VCALENDAR
VERSION:2.0
PRODID:spatie/icalendar-generator
DESCRIPTION:Events from ICTrust
X-WR-CALDESC:Events from ICTrust
REFRESH-INTERVAL;VALUE=DURATION:PT1440M
X-PUBLISHED-TTL:PT1440M
BEGIN:VTIMEZONE
TZID:Europe/Copenhagen
BEGIN:STANDARD
DTSTART:20241027T030000Z
TZOFFSETFROM:+0200
TZOFFSETTO:+0100
END:STANDARD
BEGIN:DAYLIGHT
DTSTART:20250330T020000Z
TZOFFSETFROM:+0100
TZOFFSETTO:+0200
END:DAYLIGHT
END:VTIMEZONE
BEGIN:VTIMEZONE
TZID:UTC
BEGIN:STANDARD
DTSTART:20250727T213757Z
TZOFFSETFROM:+0000
TZOFFSETTO:+0000
END:STANDARD
END:VTIMEZONE
BEGIN:VEVENT
UID:15-13
DTSTAMP:20260423T213757Z
SUMMARY:Charta Demokratie Konferenz Tyskland - Esben Koehn  og   ICT (Irre
 vocable Covenant Trust) Denmark - Diane Vincentz
LOCATION:
ORGANIZER;CN=admin:MAILTO:suzanneprep@yahoo.com
DTSTART;TZID=Europe/Copenhagen:20250204T193000
DTEND;TZID=Europe/Copenhagen:20250204T220000
X-ALT-DESC;FMTTYPE=TEXT/HTML:Samfundsfornyelse på vej  Præsentation af C
 harta Demokratie Konferenz Tyskland og ICT (Irrevocable Covenant Trust) De
 nmark    Tirsdag d. 04. februar kl. 19:30    Diana Vincentz\, Michael 
 Vincentz og Esben Koehn\, Kiel  Der bliver præsenteret to forskellige in
 itiativer\, som begge vil arbejde på en samfundsmæssig udvikling og forv
 andling. Det første er udarbejdet i Tyskland\, og det&amp;hellip\;
CATEGORIES:General
URL;VALUE=URI:https://ictrust.org/mc-events/charta-demokratie-konferenz-tys
 kland-esben-koehn-og-ict-irrevocable-covenant-trust-denmark-diane-vincentz
 /
METHOD:PUBLISH
END:VEVENT
END:VCALENDAR