BEGIN:VCALENDAR
VERSION:2.0
PRODID:spatie/icalendar-generator
DESCRIPTION:Events from ICTrust
X-WR-CALDESC:Events from ICTrust
REFRESH-INTERVAL;VALUE=DURATION:PT1440M
X-PUBLISHED-TTL:PT1440M
BEGIN:VTIMEZONE
TZID:Europe/Copenhagen
BEGIN:STANDARD
DTSTART:20241027T030000Z
TZOFFSETFROM:+0200
TZOFFSETTO:+0100
END:STANDARD
BEGIN:DAYLIGHT
DTSTART:20250330T020000Z
TZOFFSETFROM:+0100
TZOFFSETTO:+0200
END:DAYLIGHT
END:VTIMEZONE
BEGIN:VTIMEZONE
TZID:UTC
BEGIN:STANDARD
DTSTART:20250727T180351Z
TZOFFSETFROM:+0000
TZOFFSETTO:+0000
END:STANDARD
END:VTIMEZONE
BEGIN:VEVENT
UID:19-17
DTSTAMP:20260423T180351Z
SUMMARY:Samfundets tregrening som uundværlig fredsbevægelse
LOCATION:Foreningen DOF Vendepunkt c/o Antroposofisk Kulturhus Rosenvangs a
 llé 251A  8270 Højbjerg (Aarhus)  8270
ORGANIZER;CN=admin:MAILTO:suzanneprep@yahoo.com
DTSTART;TZID=Europe/Copenhagen:20250307T190000
DTEND;TZID=Europe/Copenhagen:20250309T130000
X-ALT-DESC;FMTTYPE=TEXT/HTML:Samfundets tregrening som uundværlig fredsbev
 ægelse ​​ Samfundets tregrening som uundværlig fredsbevægelse 7.8.9
  marts tregrening seminar med Diane Drake Vincentz og Stephan Frister Er k
 rig den åndelige verdens hævn på menneskeheden for dens svig? Hvordan v
 ille det sociale livs tregrening kunne bane vejen til fred på jorden? Fre
 dag d. 07.marts kl. 19:00 – søndag d. 09.&amp;hellip\;
CATEGORIES:General
URL;VALUE=URI:https://ictrust.org/mc-events/samfundets-tregrening-som-uundv
 aerlig-fredsbevaegelse/
METHOD:PUBLISH
END:VEVENT
END:VCALENDAR