BEGIN:VCALENDAR
VERSION:2.0
PRODID:spatie/icalendar-generator
DESCRIPTION:Events from ICTrust
X-WR-CALDESC:Events from ICTrust
REFRESH-INTERVAL;VALUE=DURATION:PT1440M
X-PUBLISHED-TTL:PT1440M
BEGIN:VTIMEZONE
TZID:Europe/Copenhagen
BEGIN:STANDARD
DTSTART:20241027T030000Z
TZOFFSETFROM:+0200
TZOFFSETTO:+0100
END:STANDARD
BEGIN:DAYLIGHT
DTSTART:20250330T020000Z
TZOFFSETFROM:+0100
TZOFFSETTO:+0200
END:DAYLIGHT
BEGIN:STANDARD
DTSTART:20251026T030000Z
TZOFFSETFROM:+0200
TZOFFSETTO:+0100
END:STANDARD
END:VTIMEZONE
BEGIN:VTIMEZONE
TZID:UTC
BEGIN:STANDARD
DTSTART:20250727T160352Z
TZOFFSETFROM:+0000
TZOFFSETTO:+0000
END:STANDARD
END:VTIMEZONE
BEGIN:VEVENT
UID:24-19
DTSTAMP:20260423T160352Z
SUMMARY:Nyt liv i grundlov - samfundets tregrening
LOCATION:
ORGANIZER;CN=admin:MAILTO:suzanneprep@yahoo.com
DTSTART;TZID=Europe/Copenhagen:20250601T140000
DTEND;TZID=Europe/Copenhagen:20250601T220000
X-ALT-DESC;FMTTYPE=TEXT/HTML:Nyt liv i Grundlov - Samfundets Tregrening &amp;nb
 sp\; [caption id=\"attachment_27484\" align=\"aligncenter\" width=\"541\"]
  by Annael (Anelia Pavlova)[/caption] Som samfundet nu er indrettet vil de
 n økonomiske elite sammen med staten mere og mere tage kontrollen med alt
  dvs. med os. Denne udvikling vil fortsætte i mere og mere groteske forme
 r\, hvis vi ikke siger stop. Hvis vi&amp;hellip\;
CATEGORIES:General
URL;VALUE=URI:https://ictrust.org/mc-events/nyt-liv-i-grundlov-samfundets-t
 regrening/
METHOD:PUBLISH
END:VEVENT
END:VCALENDAR