BEGIN:VCALENDAR
VERSION:2.0
PRODID:spatie/icalendar-generator
DESCRIPTION:Events from ICTrust
X-WR-CALDESC:Events from ICTrust
REFRESH-INTERVAL;VALUE=DURATION:PT1440M
X-PUBLISHED-TTL:PT1440M
BEGIN:VTIMEZONE
TZID:Europe/Copenhagen
BEGIN:DAYLIGHT
DTSTART:20250330T020000Z
TZOFFSETFROM:+0100
TZOFFSETTO:+0200
END:DAYLIGHT
BEGIN:STANDARD
DTSTART:20251026T030000Z
TZOFFSETFROM:+0200
TZOFFSETTO:+0100
END:STANDARD
BEGIN:DAYLIGHT
DTSTART:20260329T020000Z
TZOFFSETFROM:+0100
TZOFFSETTO:+0200
END:DAYLIGHT
END:VTIMEZONE
BEGIN:VTIMEZONE
TZID:UTC
BEGIN:STANDARD
DTSTART:20250727T153001Z
TZOFFSETFROM:+0000
TZOFFSETTO:+0000
END:STANDARD
END:VTIMEZONE
BEGIN:VEVENT
UID:25-20
DTSTAMP:20260423T153001Z
SUMMARY:Ich-Entwicklung und Soziale Erneuerung
LOCATION:Rendsburg Nobiskrüger Allee 75 Oberer Eurythmiesaal der Neuen Wal
 dorfschule\,  Anthroposophische Gesellschaft Zweig Rendsburg  24768
ORGANIZER;CN=admin:MAILTO:suzanneprep@yahoo.com
DTSTART;TZID=Europe/Copenhagen:20250929T193000
DTEND;TZID=Europe/Copenhagen:20250929T220000
X-ALT-DESC;FMTTYPE=TEXT/HTML:Vortrag von Diane Vincentz\, Skanderborg / DK 
 Montag den 29.Sep.2025\, 19.30 Uhr Oberer Eurythmiesaal der Neuen Waldorfs
 chule\, Nobiskrüger Allee 75 Anthroposophische Gesellschaft Zweig Rendsbu
 rg „Ich - Entwicklung und soziale Erneuerung“ [caption id=\"attachment
 _27484\" align=\"alignnone\" width=\"1200\"] by Annael (Anelia Pavlova)[/c
 aption]
CATEGORIES:General
URL;VALUE=URI:https://ictrust.org/mc-events/ich-entwicklung-und-soziale-ern
 euerung-2/
METHOD:PUBLISH
END:VEVENT
END:VCALENDAR