BEGIN:VCALENDAR
VERSION:2.0
PRODID:spatie/icalendar-generator
DESCRIPTION:Events from ICTrust
X-WR-CALDESC:Events from ICTrust
REFRESH-INTERVAL;VALUE=DURATION:PT1440M
X-PUBLISHED-TTL:PT1440M
BEGIN:VTIMEZONE
TZID:Europe/Copenhagen
BEGIN:DAYLIGHT
DTSTART:20250330T020000Z
TZOFFSETFROM:+0100
TZOFFSETTO:+0200
END:DAYLIGHT
BEGIN:STANDARD
DTSTART:20251026T030000Z
TZOFFSETFROM:+0200
TZOFFSETTO:+0100
END:STANDARD
END:VTIMEZONE
BEGIN:VTIMEZONE
TZID:UTC
BEGIN:STANDARD
DTSTART:20250727T145458Z
TZOFFSETFROM:+0000
TZOFFSETTO:+0000
END:STANDARD
END:VTIMEZONE
BEGIN:VEVENT
UID:27-21
DTSTAMP:20260423T145458Z
SUMMARY:Ich-Entwicklung und Soziale Erneuerung
LOCATION:Marburg Anne-Frank-Str. 10   Marburg  35037
ORGANIZER;CN=admin:MAILTO:suzanneprep@yahoo.com
DTSTART;TZID=Europe/Copenhagen:20250920T160000
DTEND;TZID=Europe/Copenhagen:20250921T131500
X-ALT-DESC;FMTTYPE=TEXT/HTML:Ich-Entwicklung und Soziale Erneuerung &amp;nbsp\;
  Ich-Entwicklung und soziale Erneuerung &amp;nbsp\; Die Menschheit ist dazu ve
 ranlagt\, in absoluter Freiheit\, selber die Wege zu finden\, die insbeson
 dere das irdisch-soziale Leben verwandeln können in ein solches\, das dem
  Wirken und Walten und den hohen Erwartungen der die göttliche Welt bevö
 lkernden Wesenheiten entspricht. Eine solche Weiterentwicklungen des sozia
 len Lebens&amp;hellip\;
CATEGORIES:General
URL;VALUE=URI:https://ictrust.org/mc-events/ich-entwicklung-und-soziale-ern
 euerung/
METHOD:PUBLISH
END:VEVENT
END:VCALENDAR