BEGIN:VCALENDAR
VERSION:2.0
PRODID:spatie/icalendar-generator
DESCRIPTION:Events from ICTrust
X-WR-CALDESC:Events from ICTrust
REFRESH-INTERVAL;VALUE=DURATION:PT1440M
X-PUBLISHED-TTL:PT1440M
BEGIN:VTIMEZONE
TZID:Europe/Copenhagen
BEGIN:DAYLIGHT
DTSTART:20240331T020000Z
TZOFFSETFROM:+0100
TZOFFSETTO:+0200
END:DAYLIGHT
BEGIN:STANDARD
DTSTART:20241027T030000Z
TZOFFSETFROM:+0200
TZOFFSETTO:+0100
END:STANDARD
BEGIN:DAYLIGHT
DTSTART:20250330T020000Z
TZOFFSETFROM:+0100
TZOFFSETTO:+0200
END:DAYLIGHT
END:VTIMEZONE
BEGIN:VTIMEZONE
TZID:UTC
BEGIN:STANDARD
DTSTART:20250727T222303Z
TZOFFSETFROM:+0000
TZOFFSETTO:+0000
END:STANDARD
END:VTIMEZONE
BEGIN:VEVENT
UID:3-3
DTSTAMP:20260423T222303Z
SUMMARY:For fremtidens udvikling gives der kun én bog.
LOCATION:Foreningen DOF Vendepunkt c/o Antroposofisk Kulturhus Rosenvangs a
 llé 251A  8270 Højbjerg (Aarhus)  8270
ORGANIZER;CN=admin:MAILTO:suzanneprep@yahoo.com
DTSTART;TZID=Europe/Copenhagen:20241108T163000
DTEND;TZID=Europe/Copenhagen:20241110T130000
X-ALT-DESC;FMTTYPE=TEXT/HTML:For fremtidens udvikling gives der kun én bog
  For fremtidens udvikling gives der kun én bog  Fredag 08.11. kl. 16:30 
 til søndag 10.11. kl. 13:00 Diane Vincentz og Stephan FristerVi lever i 
 en tid\, hvor menneskets personlighed og viljeskræfter\, med dets iboende
  potentiale\, fuldstændigt bliver lammet og splittet af helt reelle kræf
 ter\, der virker og råder&amp;hellip\;
CATEGORIES:General
URL;VALUE=URI:https://ictrust.org/mc-events/for-fremtidens-udvikling-gives-
 der-kun-en-bog/
METHOD:PUBLISH
END:VEVENT
END:VCALENDAR