BEGIN:VCALENDAR
VERSION:2.0
PRODID:spatie/icalendar-generator
DESCRIPTION:Events from ICTrust
X-WR-CALDESC:Events from ICTrust
REFRESH-INTERVAL;VALUE=DURATION:PT1440M
X-PUBLISHED-TTL:PT1440M
BEGIN:VTIMEZONE
TZID:Europe/Copenhagen
BEGIN:STANDARD
DTSTART:20251026T030000Z
TZOFFSETFROM:+0200
TZOFFSETTO:+0100
END:STANDARD
BEGIN:DAYLIGHT
DTSTART:20260329T020000Z
TZOFFSETFROM:+0100
TZOFFSETTO:+0200
END:DAYLIGHT
END:VTIMEZONE
BEGIN:VTIMEZONE
TZID:UTC
BEGIN:STANDARD
DTSTART:20250727T113121Z
TZOFFSETFROM:+0000
TZOFFSETTO:+0000
END:STANDARD
END:VTIMEZONE
BEGIN:VEVENT
UID:39-25
DTSTAMP:20260423T113121Z
SUMMARY:Treenigheden som et sammenhængende socialt livs - princip
LOCATION:
ORGANIZER;CN=admin:MAILTO:suzanneprep@yahoo.com
DTSTART;TZID=Europe/Copenhagen:20260419T114500
DTEND;TZID=Europe/Copenhagen:20260419T133000
X-ALT-DESC;FMTTYPE=TEXT/HTML:Treenigheden som et sammenhængende socialt li
 vs - princip   Treenig Guddom - Trefoldig social organisme En mini introd
 uktion i tregrening søndag d. 19. april 2026 kl. 11.45 Kristensamfundet -
  Bergensgade 14\, 8200 Aarhus N &amp;nbsp\; &amp;nbsp\; \"I Vladimir Solovyovs ess
 ay Staten er Kristus det blod\, der gennemstrømmer hele det sociale liv\,
  og det væsentlige punkt&amp;hellip\;
CATEGORIES:General
URL;VALUE=URI:https://ictrust.org/mc-events/treenigheden-som-et-sammenhaeng
 ende-socialt-livs-princip/
METHOD:PUBLISH
END:VEVENT
END:VCALENDAR