BEGIN:VCALENDAR
VERSION:2.0
PRODID:spatie/icalendar-generator
DESCRIPTION:Events from ICTrust
X-WR-CALDESC:Events from ICTrust
REFRESH-INTERVAL;VALUE=DURATION:PT1440M
X-PUBLISHED-TTL:PT1440M
BEGIN:VTIMEZONE
TZID:Europe/Copenhagen
BEGIN:STANDARD
DTSTART:20251026T030000Z
TZOFFSETFROM:+0200
TZOFFSETTO:+0100
END:STANDARD
BEGIN:DAYLIGHT
DTSTART:20260329T020000Z
TZOFFSETFROM:+0100
TZOFFSETTO:+0200
END:DAYLIGHT
BEGIN:STANDARD
DTSTART:20261025T030000Z
TZOFFSETFROM:+0200
TZOFFSETTO:+0100
END:STANDARD
END:VTIMEZONE
BEGIN:VTIMEZONE
TZID:UTC
BEGIN:STANDARD
DTSTART:20250727T114422Z
TZOFFSETFROM:+0000
TZOFFSETTO:+0000
END:STANDARD
END:VTIMEZONE
BEGIN:VEVENT
UID:41-26
DTSTAMP:20260423T114422Z
SUMMARY:Hvordan social tregrening kan bane vejen til et samfundsliv\, som t
 ager mennesket som udgangspunkt
LOCATION:Færgegården Færgevej 13  Svendborg  5700
ORGANIZER;CN=Gerhard Pischinger:MAILTO:gerpi@pm.me
DTSTART;TZID=Europe/Copenhagen:20260508T190000
DTEND;TZID=Europe/Copenhagen:20260508T210000
X-ALT-DESC;FMTTYPE=TEXT/HTML:[caption id=\"attachment_27835\" align=\"align
 center\" width=\"434\"] by Annael (Anelia Pavlova)[/caption] Diane Vincent
 z forklarer på sin egen ligefremme måde\, hvordan tanken om samfundets t
 regrening\, som Rudolf Steiner i sin tid anså som fundamental for samfund
 sudvikling\, i dag giver os hyper aktuelle værktøjer til at imødegå nu
 tidens udfordringer og skabe samfundsfornyelse i samklang med menneskets i
 ndre væsen. Diane har&amp;hellip\;
CATEGORIES:General
URL;VALUE=URI:https://ictrust.org/mc-events/hvordan-social-tregrening-kan-b
 ane-vejen-til-et-samfundsliv-som-tager-mennesket-som-udgangspunkt/
METHOD:PUBLISH
END:VEVENT
END:VCALENDAR