BEGIN:VCALENDAR
VERSION:2.0
PRODID:spatie/icalendar-generator
DESCRIPTION:Events from ICTrust
X-WR-CALDESC:Events from ICTrust
REFRESH-INTERVAL;VALUE=DURATION:PT1440M
X-PUBLISHED-TTL:PT1440M
BEGIN:VTIMEZONE
TZID:Europe/Copenhagen
BEGIN:DAYLIGHT
DTSTART:20240331T020000Z
TZOFFSETFROM:+0100
TZOFFSETTO:+0200
END:DAYLIGHT
BEGIN:STANDARD
DTSTART:20241027T030000Z
TZOFFSETFROM:+0200
TZOFFSETTO:+0100
END:STANDARD
END:VTIMEZONE
BEGIN:VTIMEZONE
TZID:UTC
BEGIN:STANDARD
DTSTART:20250727T234447Z
TZOFFSETFROM:+0000
TZOFFSETTO:+0000
END:STANDARD
END:VTIMEZONE
BEGIN:VEVENT
UID:6-5
DTSTAMP:20260423T234447Z
SUMMARY:Sociallivet er den gennemsigtige væg\, som åbenbarer vejen ind i 
 den åndelige verden
LOCATION:Foreningen DOF Vendepunkt c/o Antroposofisk Kulturhus Rosenvangs a
 llé 251A  8270 Højbjerg (Aarhus)  8270
ORGANIZER;CN=admin:MAILTO:suzanneprep@yahoo.com
DTSTART;TZID=Europe/Copenhagen:20240925T163000
DTEND;TZID=Europe/Copenhagen:20240925T213000
X-ALT-DESC;FMTTYPE=TEXT/HTML:<p>Aften-foredrag:  Sociallivet er den gennems
 igtige væg\, som åbenbarer vejen ind i den åndelige verden<br />\nDiane
  Vincentz<br />\nD. 25. september 2024\, kl.19:30 - oplæg med plads til s
 pørgsmål og samtale undervejs.</p>\n
CATEGORIES:General
URL;VALUE=URI:https://ictrust.org/mc-events/sociallivet-er-den-gennemsigtig
 e-vaeg-som-abenbarer-vejen-ind-i-den-andelige-verden/
METHOD:PUBLISH
END:VEVENT
END:VCALENDAR